BEGIN:VCALENDAR
VERSION:2.0
PRODID:-//Discover Wisconsin - ECPv6.15.17.1//NONSGML v1.0//EN
CALSCALE:GREGORIAN
METHOD:PUBLISH
X-ORIGINAL-URL:https://discoverwisconsin.com
X-WR-CALDESC:Events for Discover Wisconsin
REFRESH-INTERVAL;VALUE=DURATION:PT1H
X-Robots-Tag:noindex
X-PUBLISHED-TTL:PT1H
BEGIN:VTIMEZONE
TZID:America/Chicago
BEGIN:DAYLIGHT
TZOFFSETFROM:-0600
TZOFFSETTO:-0500
TZNAME:CDT
DTSTART:20240310T080000
END:DAYLIGHT
BEGIN:STANDARD
TZOFFSETFROM:-0500
TZOFFSETTO:-0600
TZNAME:CST
DTSTART:20241103T070000
END:STANDARD
BEGIN:DAYLIGHT
TZOFFSETFROM:-0600
TZOFFSETTO:-0500
TZNAME:CDT
DTSTART:20250309T080000
END:DAYLIGHT
BEGIN:STANDARD
TZOFFSETFROM:-0500
TZOFFSETTO:-0600
TZNAME:CST
DTSTART:20251102T070000
END:STANDARD
BEGIN:DAYLIGHT
TZOFFSETFROM:-0600
TZOFFSETTO:-0500
TZNAME:CDT
DTSTART:20260308T080000
END:DAYLIGHT
BEGIN:STANDARD
TZOFFSETFROM:-0500
TZOFFSETTO:-0600
TZNAME:CST
DTSTART:20261101T070000
END:STANDARD
END:VTIMEZONE
BEGIN:VEVENT
DTSTART;TZID=America/Chicago:20250819T183000
DTEND;TZID=America/Chicago:20250819T223000
DTSTAMP:20260423T084224
CREATED:20250602T135803Z
LAST-MODIFIED:20250602T135803Z
UID:10003512-1755628200-1755642600@discoverwisconsin.com
SUMMARY:Mount Pleasant Sounds at Sunset
DESCRIPTION:The great lawn is calling\, and the music is hot as the Sounds at Sunset is back! \nJoin us for unforgettable Tuesday nights at Campus Park filled with live music\, awesome food truck eats\, and an amazing time. From local blues and ABBA tributes to alt-rock and reggae-pop fusion\, Mount Pleasant has your summer soundtrack covered. \nFree admission + Free parking \nRotating food trucks & cold drinks for purchase \nGrab your lawn chair\, bring a friend\, and get ready to vibe at Sounds of Sunset! Check out our events page for more details.
URL:https://discoverwisconsin.com/event/mount-pleasant-sounds-at-sunset/2025-08-19/
LOCATION:Campus Park\, 8500 Campus Drive\, Mount Pleasant\, WI\, 53406\, United States
ATTACH;FMTTYPE=image/jpeg:https://discoverwisconsin.com/wp-content/uploads/2025/06/Mount-Pleasant-Sounds-at-Sunset.jpg
END:VEVENT
BEGIN:VEVENT
DTSTART;TZID=America/Chicago:20250729T183000
DTEND;TZID=America/Chicago:20250729T223000
DTSTAMP:20260423T084224
CREATED:20250602T135803Z
LAST-MODIFIED:20250602T135803Z
UID:10003511-1753813800-1753828200@discoverwisconsin.com
SUMMARY:Mount Pleasant Sounds at Sunset
DESCRIPTION:The great lawn is calling\, and the music is hot as the Sounds at Sunset is back! \nJoin us for unforgettable Tuesday nights at Campus Park filled with live music\, awesome food truck eats\, and an amazing time. From local blues and ABBA tributes to alt-rock and reggae-pop fusion\, Mount Pleasant has your summer soundtrack covered. \nFree admission + Free parking \nRotating food trucks & cold drinks for purchase \nGrab your lawn chair\, bring a friend\, and get ready to vibe at Sounds of Sunset! Check out our events page for more details.
URL:https://discoverwisconsin.com/event/mount-pleasant-sounds-at-sunset/2025-07-29/
LOCATION:Campus Park\, 8500 Campus Drive\, Mount Pleasant\, WI\, 53406\, United States
ATTACH;FMTTYPE=image/jpeg:https://discoverwisconsin.com/wp-content/uploads/2025/06/Mount-Pleasant-Sounds-at-Sunset.jpg
END:VEVENT
BEGIN:VEVENT
DTSTART;TZID=America/Chicago:20250708T183000
DTEND;TZID=America/Chicago:20250708T223000
DTSTAMP:20260423T084224
CREATED:20250602T135803Z
LAST-MODIFIED:20250602T135803Z
UID:10003510-1751999400-1752013800@discoverwisconsin.com
SUMMARY:Mount Pleasant Sounds at Sunset
DESCRIPTION:The great lawn is calling\, and the music is hot as the Sounds at Sunset is back! \nJoin us for unforgettable Tuesday nights at Campus Park filled with live music\, awesome food truck eats\, and an amazing time. From local blues and ABBA tributes to alt-rock and reggae-pop fusion\, Mount Pleasant has your summer soundtrack covered. \nFree admission + Free parking \nRotating food trucks & cold drinks for purchase \nGrab your lawn chair\, bring a friend\, and get ready to vibe at Sounds of Sunset! Check out our events page for more details.
URL:https://discoverwisconsin.com/event/mount-pleasant-sounds-at-sunset/2025-07-08/
LOCATION:Campus Park\, 8500 Campus Drive\, Mount Pleasant\, WI\, 53406\, United States
ATTACH;FMTTYPE=image/jpeg:https://discoverwisconsin.com/wp-content/uploads/2025/06/Mount-Pleasant-Sounds-at-Sunset.jpg
END:VEVENT
BEGIN:VEVENT
DTSTART;TZID=America/Chicago:20250621T173000
DTEND;TZID=America/Chicago:20250621T213000
DTSTAMP:20260423T084224
CREATED:20250602T140118Z
LAST-MODIFIED:20250602T140118Z
UID:10003513-1750527000-1750541400@discoverwisconsin.com
SUMMARY:Pickin' in the Park
DESCRIPTION:Mount Pleasant is bringing the acoustic rhythms of bluegrass music to Campus Park\, with a new summer concert event called Pickin’ in the Park. This free celebration features four bluegrass bands with artists who have made crowds dance to stand-up bass rhythms from North Carolina to Madison\, including a little place in between called the Grand Ole Opry. Food Trucks will be on site with hot eats\, and Racine Founders Rotary will be serving cold drinks. \nThe event lineup includes music by \n? Bluegrass All Stars – 5:30 PM \n? KR Bluegrass – 6:30 PM \n? Soggy Prairie – 7:30 PM \n? The Milbillies – 8:30 PM \nGrab your favorite chair or cozy blanket and find a spot on the Great Lawn in front of the bandshell. See you there! \n? No carry-in beer\, wine or liquor\, glass containers\, or dogs are permitted.
URL:https://discoverwisconsin.com/event/pickin-in-the-park/
LOCATION:Campus Park\, 8500 Campus Drive\, Mount Pleasant\, WI\, 53406\, United States
ATTACH;FMTTYPE=image/jpeg:https://discoverwisconsin.com/wp-content/uploads/2025/06/Pickin-in-the-Park.jpg
END:VEVENT
BEGIN:VEVENT
DTSTART;TZID=America/Chicago:20250617T183000
DTEND;TZID=America/Chicago:20250617T223000
DTSTAMP:20260423T084224
CREATED:20250602T135803Z
LAST-MODIFIED:20250602T135803Z
UID:10003509-1750185000-1750199400@discoverwisconsin.com
SUMMARY:Mount Pleasant Sounds at Sunset
DESCRIPTION:The great lawn is calling\, and the music is hot as the Sounds at Sunset is back! \nJoin us for unforgettable Tuesday nights at Campus Park filled with live music\, awesome food truck eats\, and an amazing time. From local blues and ABBA tributes to alt-rock and reggae-pop fusion\, Mount Pleasant has your summer soundtrack covered. \nFree admission + Free parking \nRotating food trucks & cold drinks for purchase \nGrab your lawn chair\, bring a friend\, and get ready to vibe at Sounds of Sunset! Check out our events page for more details.
URL:https://discoverwisconsin.com/event/mount-pleasant-sounds-at-sunset/2025-06-17/
LOCATION:Campus Park\, 8500 Campus Drive\, Mount Pleasant\, WI\, 53406\, United States
ATTACH;FMTTYPE=image/jpeg:https://discoverwisconsin.com/wp-content/uploads/2025/06/Mount-Pleasant-Sounds-at-Sunset.jpg
END:VEVENT
END:VCALENDAR