BEGIN:VCALENDAR
VERSION:2.0
PRODID:-//Discover Wisconsin - ECPv6.15.17.1//NONSGML v1.0//EN
CALSCALE:GREGORIAN
METHOD:PUBLISH
X-ORIGINAL-URL:https://discoverwisconsin.com
X-WR-CALDESC:Events for Discover Wisconsin
REFRESH-INTERVAL;VALUE=DURATION:PT1H
X-Robots-Tag:noindex
X-PUBLISHED-TTL:PT1H
BEGIN:VTIMEZONE
TZID:America/Chicago
BEGIN:DAYLIGHT
TZOFFSETFROM:-0600
TZOFFSETTO:-0500
TZNAME:CDT
DTSTART:20240310T080000
END:DAYLIGHT
BEGIN:STANDARD
TZOFFSETFROM:-0500
TZOFFSETTO:-0600
TZNAME:CST
DTSTART:20241103T070000
END:STANDARD
BEGIN:DAYLIGHT
TZOFFSETFROM:-0600
TZOFFSETTO:-0500
TZNAME:CDT
DTSTART:20250309T080000
END:DAYLIGHT
BEGIN:STANDARD
TZOFFSETFROM:-0500
TZOFFSETTO:-0600
TZNAME:CST
DTSTART:20251102T070000
END:STANDARD
BEGIN:DAYLIGHT
TZOFFSETFROM:-0600
TZOFFSETTO:-0500
TZNAME:CDT
DTSTART:20260308T080000
END:DAYLIGHT
BEGIN:STANDARD
TZOFFSETFROM:-0500
TZOFFSETTO:-0600
TZNAME:CST
DTSTART:20261101T070000
END:STANDARD
END:VTIMEZONE
BEGIN:VEVENT
DTSTART;VALUE=DATE:20250704
DTEND;VALUE=DATE:20250705
DTSTAMP:20260424T144736
CREATED:20250304T161807Z
LAST-MODIFIED:20250304T161807Z
UID:10003306-1751587200-1751673599@discoverwisconsin.com
SUMMARY:4th of July
DESCRIPTION:We think it’s the best small town parade around! Come find out for yourself. \nGettin’ The Lead Out Historic Run: Join us for the historic run starting at 8:00 AM with a shotgun start! \nParade: The lively parade kicks off at 11:00 AM on High Street \nLunch and Live Music in the Park: Enjoy live music and a delicious lunch starting at 12:00 PM \nKiwanis Pie & Ice Cream Social: Soldier’s Memorial Park at 6:00 PM \nCity Band Concert: Soldier’s Memorial Park at 6:45 PM \nFireworks: End the day with a spectacular fireworks display at dusk!
URL:https://discoverwisconsin.com/event/4th-of-july/
LOCATION:Downtown Mineral Point\, Mineral Point\, WI\, 53565\, United States
ATTACH;FMTTYPE=image/jpeg:https://discoverwisconsin.com/wp-content/uploads/2025/03/4th-of-July.jpg
END:VEVENT
END:VCALENDAR