BEGIN:VCALENDAR
VERSION:2.0
PRODID:-//Discover Wisconsin - ECPv6.15.17.1//NONSGML v1.0//EN
CALSCALE:GREGORIAN
METHOD:PUBLISH
X-WR-CALNAME:Discover Wisconsin
X-ORIGINAL-URL:https://discoverwisconsin.com
X-WR-CALDESC:Events for Discover Wisconsin
REFRESH-INTERVAL;VALUE=DURATION:PT1H
X-Robots-Tag:noindex
X-PUBLISHED-TTL:PT1H
BEGIN:VTIMEZONE
TZID:America/Chicago
BEGIN:DAYLIGHT
TZOFFSETFROM:-0600
TZOFFSETTO:-0500
TZNAME:CDT
DTSTART:20240310T080000
END:DAYLIGHT
BEGIN:STANDARD
TZOFFSETFROM:-0500
TZOFFSETTO:-0600
TZNAME:CST
DTSTART:20241103T070000
END:STANDARD
BEGIN:DAYLIGHT
TZOFFSETFROM:-0600
TZOFFSETTO:-0500
TZNAME:CDT
DTSTART:20250309T080000
END:DAYLIGHT
BEGIN:STANDARD
TZOFFSETFROM:-0500
TZOFFSETTO:-0600
TZNAME:CST
DTSTART:20251102T070000
END:STANDARD
BEGIN:DAYLIGHT
TZOFFSETFROM:-0600
TZOFFSETTO:-0500
TZNAME:CDT
DTSTART:20260308T080000
END:DAYLIGHT
BEGIN:STANDARD
TZOFFSETFROM:-0500
TZOFFSETTO:-0600
TZNAME:CST
DTSTART:20261101T070000
END:STANDARD
END:VTIMEZONE
BEGIN:VEVENT
DTSTART;TZID=America/Chicago:20251206T170000
DTEND;TZID=America/Chicago:20251206T210000
DTSTAMP:20260424T103922
CREATED:20250304T161409Z
LAST-MODIFIED:20250304T161409Z
UID:10003305-1765040400-1765054800@discoverwisconsin.com
SUMMARY:Candlelight Shopping
DESCRIPTION:Join us for our annual Candlelight Shopping event on Saturday\, December 6th. Stroll through historic downtown Mineral Point\, with hundreds of luminaries lighting your way. The festive glow extends to Aspen Ridge\, American Wine Project\, The Walker House\, and Brewery Pottery. \nSanta will be downtown\, a favorite for kids\, and there will be a fireworks show at 7 p.m. Enjoy chestnuts roasting over an open fire\, horse-drawn carriage rides\, the sounds of carolers\, and the charm of lights and garlands\, transforming Mineral Point into a scene straight out of a Norman Rockwell painting. It’s a magical evening to create unforgettable holiday memories.
URL:https://discoverwisconsin.com/event/candlelight-shopping/
LOCATION:Mineral Point Chamber of Commerce\, 145 High Street\, Mineral Point\, WI\, 53565\, United States
ATTACH;FMTTYPE=image/jpeg:https://discoverwisconsin.com/wp-content/uploads/2025/03/Candlelight-Shopping.jpg
END:VEVENT
END:VCALENDAR