BEGIN:VCALENDAR
VERSION:2.0
PRODID:-//Discover Wisconsin - ECPv6.15.17.1//NONSGML v1.0//EN
CALSCALE:GREGORIAN
METHOD:PUBLISH
X-WR-CALNAME:Discover Wisconsin
X-ORIGINAL-URL:https://discoverwisconsin.com
X-WR-CALDESC:Events for Discover Wisconsin
REFRESH-INTERVAL;VALUE=DURATION:PT1H
X-Robots-Tag:noindex
X-PUBLISHED-TTL:PT1H
BEGIN:VTIMEZONE
TZID:America/Chicago
BEGIN:DAYLIGHT
TZOFFSETFROM:-0600
TZOFFSETTO:-0500
TZNAME:CDT
DTSTART:20230312T080000
END:DAYLIGHT
BEGIN:STANDARD
TZOFFSETFROM:-0500
TZOFFSETTO:-0600
TZNAME:CST
DTSTART:20231105T070000
END:STANDARD
BEGIN:DAYLIGHT
TZOFFSETFROM:-0600
TZOFFSETTO:-0500
TZNAME:CDT
DTSTART:20240310T080000
END:DAYLIGHT
BEGIN:STANDARD
TZOFFSETFROM:-0500
TZOFFSETTO:-0600
TZNAME:CST
DTSTART:20241103T070000
END:STANDARD
BEGIN:DAYLIGHT
TZOFFSETFROM:-0600
TZOFFSETTO:-0500
TZNAME:CDT
DTSTART:20250309T080000
END:DAYLIGHT
BEGIN:STANDARD
TZOFFSETFROM:-0500
TZOFFSETTO:-0600
TZNAME:CST
DTSTART:20251102T070000
END:STANDARD
BEGIN:DAYLIGHT
TZOFFSETFROM:-0600
TZOFFSETTO:-0500
TZNAME:CDT
DTSTART:20260308T080000
END:DAYLIGHT
BEGIN:STANDARD
TZOFFSETFROM:-0500
TZOFFSETTO:-0600
TZNAME:CST
DTSTART:20261101T070000
END:STANDARD
END:VTIMEZONE
BEGIN:VEVENT
DTSTART;TZID=America/Chicago:20250621T080000
DTEND;TZID=America/Chicago:20250621T234500
DTSTAMP:20260423T175203
CREATED:20250304T173218Z
LAST-MODIFIED:20250304T173218Z
UID:10003367-1750492800-1750549500@discoverwisconsin.com
SUMMARY:Make Music Beloit
DESCRIPTION:In celebration of the summer solstice and to showcase the musical talent in Beloit while uplifting the community\, the third annual Make Music Day – Beloit will be held on Saturday\, June 21\, 2025\, as part of a free\, citywide\, and global event. Beloit will come alive with music in the streets\, parks\, offices\, schools\, and unique venues. Music will be performed by anyone and enjoyed by everyone. \nFirst originating in France in 1982 as the Fête de la Musique\, it has expanded to more than 1\,000 cities across 120 countries. Beloit is thrilled to participate in the music event as part of the lineup of cities across the world that offer performances. Wisconsin\, once again\, has more cities participating in Make Music Day than any other U.S. state. \nMusicians of all styles\, ages\, and talent levels are invited to register to perform. Venues can also offer their spaces at no cost. Just register and we’ll take care of the musician-venue matchmaking. \nMusicians and venues can register until May 28 at www.makemusicday.org/beloit. \nA full list of performances can be seen on/after June 4 at www.makemusicday.org/beloit.
URL:https://discoverwisconsin.com/event/make-music-beloit-2/
LOCATION:Various Beloit Venues
ATTACH;FMTTYPE=image/jpeg:https://discoverwisconsin.com/wp-content/uploads/2025/03/Make-Music-Beloit.jpg
END:VEVENT
BEGIN:VEVENT
DTSTART;TZID=America/Chicago:20250426T140000
DTEND;TZID=America/Chicago:20250426T180000
DTSTAMP:20260423T175203
CREATED:20250304T172940Z
LAST-MODIFIED:20250304T172940Z
UID:10003366-1745676000-1745690400@discoverwisconsin.com
SUMMARY:Downtown Beloit Spring Wine Walk
DESCRIPTION:Every year\, the Downtown Beloit Association hosts a Spring and Fall Wine Walk in beautiful Downtown Beloit. The Wine Walks feature more than a dozen unique venues offering red\, white\, sweet\, and dry wines. \nThe tasting venues offer a variety of hors d’oeuvres\, music\, specials\, drawings\, and more as part of the event—adding to the celebration of friendship and wine! \nGeneral registration includes a commemorative wine glass and 2 ounce sips at 10 venues of your choice. Limited to 400 tickets. Must be 21 years of age or older. Check in will be at Downtown Beloit Association\, 557 E. Grand Avenue. \nVIP registration includes VIP treatment at Grand Avenue Pub\, 132 W. Grand Avenue with appetizers\, wine tasting\, swag bag\, stainless steel wine tumbler sponsored by Medical Grade Aesthetics\, raffle chance to win a $50 Downtown Beloit Gift Card and more! Limited to 50 tickets. Must be 21 years of age or older. Registration will start at 1 p.m. at Grand Avenue Pub with drawings at 1:50 p.m. \nThe Goose Caboose will be available to take you to all of our destinations so watch for it and be ready to hop on board! \nEarly registration will be available Thursday\, April 24 & Friday\, April 25 from 9 a.m. to 5 p.m. at our office\, 557 E. Grand Avenue.
URL:https://discoverwisconsin.com/event/downtown-beloit-spring-wine-walk/
LOCATION:Various Beloit Venues
ATTACH;FMTTYPE=image/jpeg:https://discoverwisconsin.com/wp-content/uploads/2025/03/Downtown-Beloit-Spring-Wine-Walk-scaled.jpg
END:VEVENT
BEGIN:VEVENT
DTSTART;TZID=America/Chicago:20240621T080000
DTEND;TZID=America/Chicago:20240621T234500
DTSTAMP:20260423T175203
CREATED:20240308T163545Z
LAST-MODIFIED:20240308T163545Z
UID:10000534-1718956800-1719013500@discoverwisconsin.com
SUMMARY:Make Music Beloit
DESCRIPTION:In celebration of the summer solstice and to showcase the musical talent in Beloit while uplifting the community\, the second annual Make Music Day will be held on Friday\, June 21\, 2024\, as part of a free\, citywide\, and global event. Beloit will come alive with music in the streets\, parks\, offices\, schools\, and unique venues. Music will be performed by anyone and enjoyed by everyone.\n\nFirst originating in France in 1982 as the Fête de la Musique\, it has expanded to more than 1\,000 cities across 120 countries. Beloit is thrilled to participate in the music event as part of the lineup of cities across the world that offer performances. Wisconsin\, once again\, has more cities participating in Make Music Day than any other U.S. state.\n\nMusicians of all styles\, ages\, and talent levels are invited to register to perform. Venues can also offer their spaces at no cost. Just register and we’ll take care of the musician-venue matchmaking.\n\nMusicians and venues can register until June 5th at www.makemusicday.org/beloit.\n\nA full list of performances can be seen on/after June 7th at www.makemusicday.org/beloit.
URL:https://discoverwisconsin.com/event/make-music-beloit/
LOCATION:Various Beloit Venues
ATTACH;FMTTYPE=image/jpeg:https://discoverwisconsin.com/wp-content/uploads/2024/03/1ff73fb3-2a6a-4acc-9084-5c9922d405fd-add_your_photo_here-Make-Music-Beloit-scaled.jpeg
END:VEVENT
END:VCALENDAR